BEGIN:VCALENDAR
VERSION:2.0
PRODID:-//ChamberMaster//Event Calendar 2.0//EN
METHOD:PUBLISH
X-PUBLISHED-TTL:P3D
REFRESH-INTERVAL:P3D
CALSCALE:GREGORIAN
BEGIN:VEVENT
DTSTART:20200818T160000Z
DTEND:20200818T170000Z
X-MICROSOFT-CDO-ALLDAYEVENT:FALSE
SUMMARY:Arte Y Café Con La Curadora (Art and Coffee with the Curator): Latinx and Latin American Artists at The Alfond Inn
DESCRIPTION:Join CFAM Curator Gisela Carbonell for a lively tour and conversation at The Alfond Inn. This tour will focus on works by Latinx and Latin American artists. We will talk about a few very well-known works and will also present new acquisitions on view for the first time. This program will be presented live as a Facebook Premiere.\n\n \n\nAcompa a a la curadora de CFAM\, Gisela Carbonell\, para una visita guiada en espa ol en The Alfond Inn. Este recorrido se centrar  en obras de artistas latinos y latinoamericanos. Hablaremos de algunas obras muy conocidos y tambi n presentaremos nuevas adquisiciones expuestas por primera vez. Este programa se presentar  en vivo como un estreno de Facebook.\n\n \n\nTo join\, visit CFAM's Facebook page: https://www.facebook.com/CFAMrollins
X-ALT-DESC;FMTTYPE=text/html:<p>Join CFAM Curator Gisela Carbonell for a lively tour and conversation at The Alfond Inn. This tour will focus on works by Latinx and Latin American artists. We will talk about a few very well-known works and will also present new acquisitions on view for the first time. <span style="color:#000000">This program will be presented live as a Facebook Premiere.</span></p>\n\n<p>&nbsp\;</p>\n\n<p><span style="color:#000000">Acompa&ntilde\;a a la curadora de CFAM\, Gisela Carbonell\, para una visita guiada en espa&ntilde\;ol </span>en The Alfond Inn. Este recorrido se centrar&aacute\; en obras de artistas latinos y latinoamericanos. Hablaremos de algunas obras muy conocidos y tambi&eacute\;n presentaremos nuevas adquisiciones expuestas por primera vez.<span style="color:#000000"> </span>Este programa se presentar&aacute\; en vivo como un estreno de Facebook.</p>\n\n<p>&nbsp\;</p>\n\n<p>To join\, visit CFAM&rsquo\;s Facebook page: https://www.facebook.com/CFAMrollins</p>\n
LOCATION:To join\, visit CFAM's Facebook page: https://www.facebook.com/CFAMrollins
UID:e.3221.5041073
SEQUENCE:3
DTSTAMP:20260420T185015Z
URL:https://business.winterpark.org/events/details/arte-y-caf&#233;-con-la-curadora-art-and-coffee-with-the-curator-latinx-and-latin-american-artists-at-the-alfond-inn-5041073
END:VEVENT

END:VCALENDAR
