BEGIN:VCALENDAR
VERSION:2.0
PRODID:-//ChamberMaster//Event Calendar 2.0//EN
METHOD:PUBLISH
X-PUBLISHED-TTL:P3D
REFRESH-INTERVAL:P3D
CALSCALE:GREGORIAN
BEGIN:VEVENT
DTSTART:20200721T160000Z
DTEND:20200721T170000Z
X-MICROSOFT-CDO-ALLDAYEVENT:FALSE
SUMMARY:Arte Y Café Con La Curadora (Art and Coffee with the Curator): 2020: Action\, Freedom\, Patriotism
DESCRIPTION:Join CFAM Curator Gisela Carbonell for lively tour and conversation in Spanish to discuss the timely exhibition 2020: Action\, Freedom\, Patriotism. This tour will focus on works that address issues of patriotism\, civic engagement\, and the role of the artist in contemporary discourse. This program will be presented live as a Facebook Premiere.\n\n \n\nAcompa a a la curadora de CFAM\, Gisela Carbonell\, para una visita guiada en espa ol de la exposici n 2020: Action\, Freedom\, Patriotism. En este recorrido conversaremos sobre obras que abordan asuntos sobre el patriotismo\, civismo\, y el rol del artista en el discurso contempor neo. Este programa se presentar  en vivo como un estreno de Facebook.
X-ALT-DESC;FMTTYPE=text/html:<p>Join CFAM Curator Gisela Carbonell for lively tour and conversation in Spanish to discuss the timely exhibition <em>2020: Action\, Freedom\, Patriotism</em>. This tour will focus on works that address issues of patriotism\, civic engagement\, and the role of the artist in contemporary discourse. <span style="color:#000000">This program will be presented live as a Facebook Premiere.</span></p>\n\n<p>&nbsp\;</p>\n\n<p>Acompa&ntilde\;a a la curadora de CFAM\, Gisela Carbonell\, para una visita guiada en espa&ntilde\;ol de la exposici&oacute\;n <em>2020: Action\, Freedom\, Patriotism.</em> En este recorrido conversaremos sobre obras que abordan asuntos sobre el patriotismo\, civismo\, y el rol del artista en el discurso contempor&aacute\;neo. <span style="color:#2d2d2d">Este programa se presentar&aacute\; en vivo como un estreno de Facebook.</span></p>\n
LOCATION:To join\, visit CFAM's Facebook page: https://www.facebook.com/CFAMrollins
UID:e.3221.5041072
SEQUENCE:3
DTSTAMP:20260420T185015Z
URL:https://business.winterpark.org/events/details/arte-y-caf&#233;-con-la-curadora-art-and-coffee-with-the-curator-2020-action-freedom-patriotism-5041072
END:VEVENT

END:VCALENDAR
