BEGIN:VCALENDAR
VERSION:2.0
PRODID:-//ChamberMaster//Event Calendar 2.0//EN
METHOD:PUBLISH
X-PUBLISHED-TTL:P3D
REFRESH-INTERVAL:P3D
CALSCALE:GREGORIAN
BEGIN:VEVENT
DTSTART:20201216T150000Z
DTEND:20201216T160000Z
X-MICROSOFT-CDO-ALLDAYEVENT:FALSE
SUMMARY:All About PPP Loan Forgiveness
DESCRIPTION:Worried about applying for Paycheck Protection Program loan forgiveness? We can help. Learn what you will need\, how to apply\, and the next steps toward loan forgiveness. This webinar will cover the details of PPP loan forgiveness and what it takes for your loan to qualify. It's the perfect opportunity to ask any questions you may have. You'll come away feeling better informed about many loan aspects\, including  - Detailed instructions on how to apply for PPP Loan Forgiveness - Your coverage period - When you should apply - What you will need before you begin your forgiveness application - What you can expect after you apply Those interested can register here: https://www.additionfi.com/community-events/detail/all-about-ppp-loan-forgiveness
X-ALT-DESC;FMTTYPE=text/html:Worried about applying for Paycheck Protection Program loan forgiveness? We can help. Learn what you will need\, how to apply\, and the next steps toward loan forgiveness. This webinar will cover the details of PPP loan forgiveness and what it takes for your loan to qualify. It&rsquo\;s the perfect opportunity to ask any questions you may have. You&rsquo\;ll come away feeling better informed about many loan aspects\, including&hellip\; - Detailed instructions on how to apply for PPP Loan Forgiveness - Your coverage period - When you should apply - What you will need before you begin your forgiveness application - What you can expect after you apply Those interested can register here: https://www.additionfi.com/community-events/detail/all-about-ppp-loan-forgiveness
LOCATION:https://www.additionfi.com/community-events/detail/all-about-ppp-loan-forgiveness
UID:e.3221.5041972
SEQUENCE:3
DTSTAMP:20260420T070454Z
URL:https://business.winterpark.org/events/details/all-about-ppp-loan-forgiveness-5041972
END:VEVENT

END:VCALENDAR
