BEGIN:VCALENDAR
VERSION:2.0
PRODID:-//ChamberMaster//Event Calendar 2.0//EN
METHOD:PUBLISH
X-PUBLISHED-TTL:P3D
REFRESH-INTERVAL:P3D
CALSCALE:GREGORIAN
BEGIN:VEVENT
DTSTART;VALUE=DATE:20200504
DTEND;VALUE=DATE:20200505
TRANSP:TRANSPARENT
X-MICROSOFT-CDO-ALLDAYEVENT:TRUE
SUMMARY:2020 Raymond Golf Classic
DESCRIPTION:Join us on May 4th\, 2020 for the Raymond Golf Classic at Interlachen Country Club. The 2020 Raymond Golf Classic benefits the Conductive Education Center of Orlando (CECO). CECO is a 501(c)(3) nonprofit organization transforming the lives of children and adults with motor disabilities. Our mission is for the individuals we serve to achieve their greatest level of independence through conductive education\; integrating physical\, cognitive and social skills.
X-ALT-DESC;FMTTYPE=text/html:Join us on May 4th\, 2020 for the Raymond Golf Classic at Interlachen Country Club. The 2020 Raymond Golf Classic benefits the Conductive Education Center of Orlando (CECO). CECO is a 501(c)(3) nonprofit organization transforming the lives of children and adults with motor disabilities. Our mission is for the individuals we serve to achieve their greatest level of independence through conductive education\; integrating physical\, cognitive and social skills.
LOCATION:Interlachen Country Club
UID:e.3221.5039392
SEQUENCE:3
DTSTAMP:20260421T010922Z
URL:https://business.winterpark.org/events/details/2020-raymond-golf-classic-5039392
END:VEVENT

END:VCALENDAR
