BEGIN:VCALENDAR
VERSION:2.0
PRODID:-//ChamberMaster//Event Calendar 2.0//EN
METHOD:PUBLISH
X-PUBLISHED-TTL:P3D
REFRESH-INTERVAL:P3D
CALSCALE:GREGORIAN
BEGIN:VEVENT
DTSTART;VALUE=DATE:20260919
DTEND;VALUE=DATE:20260921
TRANSP:TRANSPARENT
X-MICROSOFT-CDO-ALLDAYEVENT:TRUE
SUMMARY:Headdress Gala
DESCRIPTION:The 2026 Gala\, formerly known as the Headdress Ball\, returns as the Headdress Gala. Preserving the energy and spirit that made Headdress iconic charity event returning to Orlando on September 19\, 2026. It is known for bold performances\, high level production\, immersive staging\, and emotionally engaging moments. Headdress is not just a fundraiser. The Headdress Gala is performance-driven\, not a traditional sit-and-watch dinner. The night balances high-energy moments with intentional\, emotional pauses. It is an experience that blends glamour\, creativity\, and purpose. Expression is at the core of the experience\, in fashion\, identity\, and performance leaving guests feeling as part of something immersive\, not just in attendance. The 2026 theme is Metamorphosis: The Power of Expression. It reflects transformation and growth while showing how both the event and The Hope & Help Center of Central Florida have evolved while staying rooted in their purpose and community. The Power of Expression ties into this by celebrating how people\, creativity\, and community continue to grow\, adapt\, and be seen authentically. The Headdress Gala benefits Hope & Help of Central Florida to continue serving communities across seven counties in Central Florida and Tampa Bay. Being that Florida consistently ranks among the top three states in the nation for HIV\, making prevention and early care especially important in the communities Hope & Help serves. The organization focuses Primary Care\, HIV treatment\, STI prevention\, Testing\, and education\, which are essential and life-saving components of community health. The organization serves thousands of individuals each year across Central Florida and Tampa Bay and continues to expand its services to meet growing community health needs. Funds raised support direct services today and future healthcare expansion. Buy Tickets Here: https://headdressgala.com/
X-ALT-DESC;FMTTYPE=text/html:<span style="color:rgb(102\, 102\, 102)\; font-family:open sans\,sans-serif\; font-size:14px">The 2026 Gala\, formerly known as the Headdress Ball\, returns as the Headdress Gala. Preserving the energy and spirit that made Headdress iconic charity event returning to Orlando on September 19\, 2026. It is known for bold performances\, high level production\, immersive staging\, and emotionally engaging moments. Headdress is not just a fundraiser. The Headdress Gala is performance-driven\, not a traditional sit-and-watch dinner. The night balances high-energy moments with intentional\, emotional pauses. It is an experience that blends glamour\, creativity\, and purpose. Expression is at the core of the experience\, in fashion\, identity\, and performance leaving guests feeling as part of something immersive\, not just in attendance. The 2026 theme is Metamorphosis: The Power of Expression. It reflects transformation and growth while showing how both the event and The Hope &amp\; Help Center of Central Florida have evolved while staying rooted in their purpose and community. The Power of Expression ties into this by celebrating how people\, creativity\, and community continue to grow\, adapt\, and be seen authentically. The Headdress Gala benefits Hope &amp\; Help of Central Florida to continue serving communities across seven counties in Central Florida and Tampa Bay. Being that Florida consistently ranks among the top three states in the nation for HIV\, making prevention and early care especially important in the communities Hope &amp\; Help serves. The organization focuses Primary Care\, HIV treatment\, STI prevention\, Testing\, and education\, which are essential and life-saving components of community health. The organization serves thousands of individuals each year across Central Florida and Tampa Bay and continues to expand its services to meet growing community health needs. Funds raised support direct services today and future healthcare expansion. Buy Tickets Here: https://headdressgala.com/</span>
LOCATION:Hilton Orlando 6001 Destination Pkwy Orlando\, FL United States 32819
UID:e.3221.5057014
SEQUENCE:3
DTSTAMP:20260425T235109Z
URL:http://business.winterpark.org/events/details/headdress-gala-5057014
END:VEVENT

END:VCALENDAR
